BEGIN:VCALENDAR
VERSION:2.0
PRODID:-//wp-events-plugin.com//7.2.3.1//EN
BEGIN:VEVENT
UID:27@alpost170.us
DTSTART:20251002T053000Z
DTEND:20251002T150000Z
DTSTAMP:20250723T200926Z
URL:https://alpost170.us/events/3rd-annual-ed-odowd-fishing-trip/
SUMMARY:3rd Annual Ed O'Dowd Memorial Fishing trip
DESCRIPTION:
ATTACH;FMTTYPE=image/jpeg:https://alpost170.us/wp-content/uploads/2025/07/
 Thursday-October-22025-1.png
END:VEVENT
END:VCALENDAR