BEGIN:VCALENDAR
VERSION:2.0
PRODID:-//wp-events-plugin.com//7.2.3.1//EN
BEGIN:VEVENT
UID:28@alpost170.us
DTSTART:20250906T140000Z
DTEND:20250906T170000Z
DTSTAMP:20250723T201229Z
URL:https://alpost170.us/events/cota-fundraiser/
SUMMARY:COTA Fundraiser
DESCRIPTION:
ATTACH;FMTTYPE=image/jpeg:https://alpost170.us/wp-content/uploads/2025/07/
 Cota.png
END:VEVENT
END:VCALENDAR