BEGIN:VCALENDAR
VERSION:2.0
PRODID:-//wp-events-plugin.com//7.2.3.1//EN
BEGIN:VEVENT
UID:26@alpost170.us
DTSTART:20250927T130000Z
DTEND:20250927T170000Z
DTSTAMP:20250627T200804Z
URL:https://alpost170.us/events/post-170-picnic/
SUMMARY:POST 170 PICNIC !!!
DESCRIPTION:
ATTACH;FMTTYPE=image/jpeg:https://alpost170.us/wp-content/uploads/2025/06/
 Picnic.png
END:VEVENT
END:VCALENDAR